Workbook
Name diapas: #REF!
Name diapas: #REF!
Name diapas: #REF!
Name IndNamePredp: #REF!
Name IndNamePredp: #REF!
Name IndNamePredp: #REF!
Name SpisokVvoda: #REF!
Name SpisokVvoda: #REF!
Name SpisokVvoda: #REF!
Name ддд: #REF!
Name ддд: #REF!
Name ддд: #REF!

Sheet налоги
A2: БЮДЖЕТГА ТЎЛОВЛАР ТЎҒРИСИДА МАЪЛУМОТ СПРАВКА О ПЛАТЕЖАХ В БЮДЖЕТ по АО "БИОКИМЕ" на 1 июля 2024 г.
A4: Кўрсаткичлар номи Наименование показателя | B4: Сатр коди Код строки | C4: остаток на начало | D4: Ҳисоб бўйича тўланади Причитается по расчету за 1 полуг. 2026 года | E4: Ҳақиқатда тўланган Фактически внесено из причитающихся за отчетного периода | F4: Ҳақиқатда тўланган Фактически внесено из расчета за 2025 год | G4: остаток на конец
C5: 1 | D5: 1 | E5: 2 | F5: 3 | G5: 3
A6: юридик шахслардан олинадиган даромад(фойда) солиги Налог на доходы (прибыль)с юридических лиц | B6: 280 | C6: -151028 | D6: 1469110 | E6: 1501752 | F6: =E6-C6 -> 1652780 | G6: =H6 -> -183670 | H6: =C6+D6-E6 -> -183670
A7: жисмоний шахслардан олинадиган даромад солиги Налог на доходы с физических лиц | B7: 290 | C7: 0 | D7: 1618949 | E7: =1605519+13430 -> 1618949 | F7: =E7-C7 -> 1618949 | G7: =H7 -> 0 | H7: =C7+D7-E7 -> 0
A8: Шу жумладан: шахсий жамгариб бориладиган пенсия хисобварикларига ажратмалар в том числе :отчисления в ИНПС граждан | B8: 291 | C8: 0 | D8: 13430 | E8: 13430 | F8: =E8-C8 -> 13430 | G8: =H8 -> 0 | H8: =C8+D8-E8 -> 0
A9: ободонлаштиртиш ва ижтимоий инфратузулмани ривожлантириш солиги Налог на благоустройство и развитие социальной инфраструктуры | B9: 300 | C9: 0 | D9: 0 | E9: 0 | F9: =E9-C9 -> 0 | G9: 0 | H9: =C9+D9-E9 -> 0
A10: Қўшилган қиймат солиғи Налог на добавленную стоимость | B10: 310 | C10: -94150 | D10: =14909132+31602 -> 14940734 | E10: =15000000+31602 -> 15031602 | F10: =E10-C10 -> 15125752 | G10: =H10 -> -185018 | H10: =C10+D10-E10 -> -185018 | K10: 449731 | L10: нерезидент услуги НДС
A11: Акциз солиғи Акцизный налог | B11: 320 | C11: 0 | D11: 91003605 | E11: 74306802 | F11: =E11-C11 -> 74306802 | G11: =H11 -> 16696803 | H11: =C11+D11-E11 -> 16696803 | L11: 4.4973083e+08
A12: Ер ости бойликларидан фойдаланганлик учун солиқ Налог за пользование недрами | B12: 330 | C12: 0 | E12: 0 | F12: =E12-C12 -> 0 | G12: 0 | H12: =C12+D12-E12 -> 0
A13: Сув ресурсларидан фойдаланганлик учун солиқ Налог за пользование водными ресурсами | B13: 340 | C13: -158524 | D13: =725634+1278 -> 726912 | E13: 579817 | F13: =E13-C13 -> 738341 | G13: =H13 -> -11429 | H13: =C13+D13-E13 -> -11429
A14: Юридик шахсларнинг Мол-мулкига солиғи Налог на имущество юридических лиц | B14: 350 | C14: -28514 | D14: 445968 | E14: 424000 | F14: =E14-C14 -> 452514 | G14: =H14 -> -6546 | H14: =C14+D14-E14 -> -6546
A15: Юридик шахсларнингдан олинадиган ер солиғи Земельный налог с юридических лиц | B15: 360 | C15: 0 | D15: 390158 | E15: 390158 | F15: =E15-C15 -> 390158 | G15: =H15 -> 0 | H15: =C15+D15-E15 -> 0
A16: Ягона солиқ тулови Налог на прибыль с нерезидента | B16: 370 | D16: 0 | E16: 0 | F16: =E16-C16 -> 0 | H16: =C16+D16-E16 -> 0
A17: девиденды | B17: 380 | C17: 0 | D17: 19605 | E17: 19605 | F17: =E17-C17 -> 19605 | G17: =H17 -> 0 | H17: =C17+D17-E17 -> 0
A18: Катъий белгиланган солик Фиксированный налог ( налог на износ оборудование) | B18: 390 | D18: 0 | E18: 0 | F18: 0 | H18: =C18+D18-E18 -> 0
A19: Бошқа солиқлар Прочие налоги ПФ 8% от з/пл работников | B19: 400 | D19: 0 | E19: 0 | F19: =E19-C19 -> 0 | H19: =C19+D19-E19 -> 0
A20: Республика йул жамгармаси мажбурий туловлар Обязательные отчисления в Республиканский дорожный фонд | B20: 410 | D20: 0 | E20: 0 | F20: =E20-C20 -> 0 | H20: =C20+D20-E20 -> 0
A21: Бюджетдан ташкари Пенсия жамгармасига мажбурий туловлар Обязательные отчисления во внебюджетный фонд | B21: 420 | D21: 0 | E21: 0 | F21: =E21-C21 -> 0 | H21: =C21+D21-E21 -> 0 | L21: =G6+G10+G13+G14 -> -386663
A22: Мактаб таълими жамгармасига мажбурий туловлар Обязательные отчисления в Фонд школьного образования | B22: 430 | D22: 0 | E22: 0 | F22: =E22-C22 -> 0 | H22: =C22+D22-E22 -> 0
A23: Ягона ижтимоий тулови Единый социальный платеж | B23: 440 | C23: 0 | D23: 1631653 | E23: 1631653 | F23: =E23-C23 -> 1631653 | G23: =H23 -> 0 | H23: =C23+D23-E23 -> 0
A24: Импорт буйича божхона божи Импортные таможенные пошлины ЦФ 3,2% | B24: 450 | D24: 0 | E24: 0 | F24: 0 | H24: =C24+D24-E24 -> 0
A25: Махаллий бюджетга йигимлар Сборы в местный бюджет ст 15,12 | B25: 460 | F25: =E25-C25 -> 0 | H25: =C25+D25-E25 -> 0
A26: Бюджетга тўловларнинг кечиктирилганлиги учун молиявий жазолар Финансовые санкции за просроченные платежи в бюджет | B26: 470 | C26: 0 | F26: =E26-C26 -> 0 | G26: =H26 -> 0 | H26: =C26+D26-E26 -> 0 | L26: 52156711
A27: Жами бюджетга тўловлар суммаси (280 дан 470 сатргача,291 сатрлардан ташқари) Всего сумма платежей в бюджет (стр. с 280 по 470 кроме стр.291) | B27: 480 | C27: =SUM(C6:C26)-C8 -> -432216 | D27: =SUM(D6:D26)-D8 -> 112246694 | E27: =SUM(E6:E26)-E8 -> 95504338 | F27: =SUM(F6:F26)-F8 -> 95936554 | G27: =SUM(G6:G26)-G8 -> 16310140 | L27: =E27-L26 -> 43347627
A29: Раҳбар Руководитель___________________________ | C29: =C27 -> -432216 | D29: =D27 -> 112246694 | E29: =E27 -> 95504338 | F29: =F27 -> 95936554 | G29: =C29+D29-E29 -> 16310140 | H29: =C29+D29-E29 -> 16310140
A30: Бош бухгалтер Главный бухгалтер______________________
E34: 177217821
E35: =E34-E29 -> 81713483
G37: =E34-150000 -> 177067821
E39: =E27-E6 -> 94002586
E43: =E27-E6 -> 94002586
E45: =E27-E26 -> 95504338

Sheet Баланс
B1: Ўзбекистон Республикаси Молия вазирининг 2002 йил 27 де- кабрдаги 140-сонли буйруғига 1-сонли илова, ЎзР АВ томо- нидан 2003 й. 24 январда рўйхатга олинган N 1209 Приложение N 1 к Приказу министра финансов от 27 декаб- ря 2002 г. N 140, зарегистрированному МЮ 24 января 2003 г. N 1209
A3: БУХГАЛТЕРИЯ БАЛАНСИ - 1-сонли шакл
A4: БУХГАЛТЕРСКИЙ БАЛАНС - форма N 1
B5: 2026 йил 1 июль
B6: на 1 июля 2026 года
D8: Кодалар Коды
A9: Корхона, ташкилот Предпритие, организация АО BIOKIMYO | C9: БҲУТ бўйича 1-шакл Форма N 1 по ОКУД
C10: КТУТ бўйича- по ОКПО- | D10: ОО478983
A11: Тармоқ Отрасль _промышленность_______________________________ | C11: ХХТУТ бўйича- по ОКОНХ- | D11: 18141
A12: Ташкилий-ҳуқуқий шакли Организационно-правовая форма | C12: ТҲШТ бўйича- по КОПФ- | D12: 1151
A13: Мулкчилик шакли Форма собственности _ Аакционерное | C13: МШТ бўйича- по КФС- | D13: 144
A14: Вазирлик, идора ва бошєалар Министерства, ведомства и другие | C14: ДБИБТ бўйича- по СООГУ- | D14: 8254
A15: Солиқ тўловчининг идентификацион рақами Идентификационный номер налогоплательщика 200468069 | C15: СТИР- ИНН- | D15: 200468069
A16: Ҳудуд Территория | C16: МҲОБТ- СОАТО- | D16: 1727424
A17: Манзил Адрес Янгиюль шахар ул.Кимегар 1 | C17: Жўнатилган сана- Дата высылки-
A18: Ўлчов бирлиги, минг сўм Единица измерения, тыс. сум. | C18: қабул қилинган сана- Дата получения-
C19: Тақдим қилиш муддати- Срок представления | D19: 01.07.2026 г
B35: Сатр коди Код стр. | C35: Ҳисобот даври бошига На начало отчетного периода | D35: Ҳисобот даври охирига На конец отчетного периода
A36: А к т и в .
A37: 1 | B37: 2 | C37: 3 | D37: 4
A38: I. Узоқ муддатли активлар I. Долгосрочные активы
A39: Асосий воситалар: Основные средства:
A40: Бошланғич (қайта тиклаш) қиймати (0100, 0300) Первоначальная (восстановительная) стоимость (0100, 0300) | B40: 010 | C40: 99101424 | D40: 104004721
A41: Эскириш суммаси (0200) Сумма износа (0200) | B41: 011 | C41: 37979326 | D41: 42786245 | F41: =D41-C41 -> 4806919
A42: Қолдиқ (баланс) қиймати (сатр. 010 - 011) Остаточная (балансовая) стоимость (стр. 010-011) | B42: 012 | C42: =C40-C41 -> 61122098 | D42: =D40-D41 -> 61218476
A43: Номоддий активлар: Нематериальные активы:
A44: Бошланғич қиймати (0400) Первоначальная стоимость (0400) | B44: 020
A45: Амортизация суммаси (0500) Сумма амортизации (0500) | B45: 021
A46: Қолдиқ (баланс) қиймати (сатр. 020 - 021) Остаточная (балансовая) стоимость (стр. 020-021) | B46: 022 | C46: =C44-C45 -> 0 | D46: =D44-D45 -> 0
A47: Узоқ муддатли инвестициялар, жами (сатр.040+050+060+070+080), шу жумладан: Долгосрочные инвестиции, всего (стр.040+050+060+070+080), в том числе: | B47: 030 | C47: =C48+C49+C50+C51+C52 -> 433898 | D47: =D48+D49+D50+D51+D52 -> 433898
A48: Қимматли қоғозлар (0610) Ценные бумаги (0610) | B48: 040 | C48: 0 | D48: 0
A49: Шўъба хўжалик жамиятларига инвестициялар (0620) Инвестиции в дочерние хозяйственные общества (0620) | B49: 050 | C49: 0 | D49: 0
A50: Қарам хўжалик жамиятларига инвестициялар (0630) Инвестиции в зависимые хозяйственные общества (0630) | B50: 060 | C50: 0 | D50: 0
A51: Чет эл капитали мавжуд бўлган корхоналарга инвестициялар (0640) Инвестиции в предприятие с иностранным капиталом (0640) | B51: 070
A52: Бошқа узоқ муддатли инвестициялар (0690) Прочие долгосрочные инвестиции (0690) | B52: 080 | C52: 433898 | D52: 433898
A53: Ўрнатиладиган асбоб-ускуналар (0700) Оборудование к установке (0700) | B53: 090
A54: Капитал қўйилмалар (0800) Капитальные вложения (0800) | B54: 100 | C54: 4711498 | D54: 884620
A55: Узоқ муддатли дебиторлик қарзлари (0910, 0920, 0930, 0940) Долгосрочная дебиторская задолженность (0910, 0920, 0930, 0940) | B55: 110 | C55: 0 | D55: 0
A56: Узоқ муддатли кечиктирилган харажатлар (0950, 0960, 0990) Долгосрочные отсроченные расходы (0950, 0960, 0990) | B56: 120 | C56: 0 | D56: 0
A57: I бўлим бўйича жами (сатр. 012+022+030+090+100+110+120) Итого по разделу I (стр. 012+022+030+090+100+110+120) | B57: 130 | C57: =C42+C46+C47+C53+C54+C55+C56 -> 66267494 | D57: =D42+D46+D47+D53+D54+D55+D56 -> 62536994
...

Sheet Фин_рез
B1: Ўзбекистон Республикаси Молия вазирининг 2002 йил 27 де- кабрдаги 140-сонли буйруғига 2-сонли илова, ЎзР АВ томони- дан 2003 й. 24 январда рўйхатга олинган N 1209 Приложение N 2 к Приказу министра финансов от 27 декабря 2002 г. N 140, зарегистрированному МЮ 24 января 2003 г. N 1209
A3: МОЛИЯВИЙ НАТИЖАЛАР ТЎҒРИСИДАГИ ҲИСОБОТ - 2-сонли шакл
A4: ОТЧЕТ О ФИНАНСОВЫХ РЕЗУЛЬТАТАХ - форма N 2
A6: =Баланс!B5 -> 2026 йил 1 июль
A7: =Баланс!B6 -> на 1 июля 2026 года
A9: Корхона, ташкилот Предприятие, организация АО BIOKIMYO | F9: Кодалар Коды
A10: Тармоқ Отрасль _промышленность | E10: БҲУТ бўйича 2-шакл- Форма N 2 по ОКУД-
A11: Ташкилий-ҳуқуқий шакли Организационно-правовая форма открытого типа_ | E11: КТУТ бўйича- по ОКПО- | F11: ОО478983
A12: Мулкчилик шакли Форма собственности __акционерное____ | E12: ХХТУТ бўйича- по ОКОНХ- | F12: 18141
E13: ТҲШТ бўйича- по КОПФ- | F13: 1151
A14: Вазирлик, идора ва бошқалар Министерства, ведомства и другие | E14: МШТ бўйича- по КФС- | F14: 144
E15: ДБИБТ бўйича- по СООГУ- | F15: 8254
A16: Солиқ тўловчининг идентификацион рақами Идентификационный номер налогоплательщика 200468069 | E16: СТИР- ИНН- | F16: 200468069
E17: МҲОБТ- СОАТО- | F17: 1727424
A18: Ҳудуд Территория | E18: Жўнатилган сана- Дата высылки-
A19: Манзил Адрес Янгиюльский р-он ул.Кимегар 1 | E19: Қабул қилинган сана- Дата получения-
A20: Ўлчов бирлиги, минг сўм Единица измерения, тыс. сум. | E20: Тақдим қилиш муддати- Срок представления- | F20: =Баланс!D19 -> 01.07.2026 г
A24: Кўрсаткичлар номи Наименование показателя | B24: Сатр коди Код строки | C24: Ўтган йилнинг шу даврида За соответствующий период прошлого года | E24: Ҳисобот даврида За отчетный период
C25: Даромадлар (фойда) Доходы (прибыль) | D25: Харажатлар (зарарлар) Расходы (убытки) | E25: Даромадлар (фойда) Доходы (прибыль) | F25: Харажатлар (зарарлар) Расходы (убытки)
A26: 1 | B26: 2 | C26: 3 | D26: 4 | E26: 5 | F26: 6
A27: Маҳсулот (товар, иш ва хизмат) ларни сотишдан соф тушум Чистая выручка от реализации продукции (товаров, работ и услуг) | B27: 010 | C27: 104241422 | E27: 111175332 | G27: =E27/C27 -> 1.0665178
A28: Сотилган маҳсулот (товар, иш ва хизмат) ларнинг таннархи Себестоимость реализованной продукции (товаров, работ и услуг) | B28: 020 | D28: 84021482 | F28: 94399654 | G28: =E28/C28 -> #DIV/0!
A29: Маҳсулот (товар, иш ва хизмат) ларни сотишнинг ялпи фойдаси (зарари) (сатр.010-020) Валовая прибыль (убыток) от реализации продукции (товаров, работ и услуг) (стр.010-020) | B29: 030 | C29: 20219940 | E29: =E27-F28 -> 16775678 | G29: =E29/C29 -> 0.82966013
A30: Давр харажатлари, жами (сатр.050+060+070+080), шу жумладан: Расходы периода, всего (стр.050+060+070+080), в том числе: | B30: 040 | D30: 7877221 | F30: =F31+F32+F33 -> 7746568 | G30: =E30/C30 -> #DIV/0!
A31: Сотиш харажатлари Расходы по реализации | B31: 050 | D31: 551811 | F31: 541628 | G31: =E31/C31 -> #DIV/0!
A32: Маъмурий харажатлар Административные расходы | B32: 060 | D32: 2040599 | F32: 2193688 | G32: =E32/C32 -> #DIV/0!
A33: Бошқа операцион харажатлар Прочие операционные расходы | B33: 070 | D33: 5284811 | F33: 5011252 | G33: =E33/C33 -> #DIV/0!
A34: Келгусида солиққа тортиладиган базадан чиқариладиган ҳисобот даври харажатлари Расходы отчетного периода, исключаемые из налогооблагаемой базы в будущем | B34: 080 | G34: =E34/C34 -> #DIV/0!
A35: Асосий фаолиятнинг бошқа даромадлари Прочие доходы от основной деятельности | B35: 090 | C35: 1035374 | E35: 832167 | G35: =E35/C35 -> 0.80373565
A36: Асосий фаолиятнинг фойдаси (зарари) (сатр. 030-040+090) Прибыль (убыток) от основной деятельности (стр.030-040+090) | B36: 100 | C36: 13378093 | E36: =E29-F30+E35 -> 9861277 | G36: =E36/C36 -> 0.73712128
A37: Молиявий фаолиятнинг даромадлари, жами (сатр.120+130+140+150+160), шу жумладан: Доходы от финансовой деятельности, всего (стр.120+130+140+150+160), в том числе: | B37: 110 | C37: 68138 | E37: =E41+E39 -> 181291 | G37: =E37/C37 -> 2.6606446
A38: Дивидендлар шаклидаги даромадлар Доходы в виде дивидендов | B38: 120 | G38: =E38/C38 -> #DIV/0!
A39: Фоизлар шаклидаги даромадлар Доходы в виде процентов | B39: 130 | E39: 176102 | G39: =E39/C39 -> #DIV/0!
A40: Узоқ муддатли ижара (лизинг) дан даромадлар Доходы от долгосрочной аренды (лизинг) (Строка в редакции Приказа МФ, зарегистрированного МЮ 12.11.2003 г. N 1209-1) | B40: 140 | G40: =E40/C40 -> #DIV/0!
A41: Валюта курси фарқидан даромадлар Доходы от валютных курсовых разниц | B41: 150 | C41: 68138 | E41: 5189 | G41: =E41/C41 -> 0.076154275
A42: Молиявий фаолиятнинг бошқа даромадлари Прочие доходы от финансовой деятельности | B42: 160 | G42: =E42/C42 -> #DIV/0!
A43: Молиявий фаолият бўйича харажатлар (сатр.180+190+200+210), шу жумладан: Расходы по финансовой деятельности (стр.180+190+200+210), в том числе: | B43: 170 | D43: 2243053 | F43: =F44+F45+F46+F47 -> 671846 | G43: =E43/C43 -> #DIV/0!
A44: Фоизлар шаклидаги харажатлар Расходы в виде процентов | B44: 180 | D44: 2005606 | F44: 645369 | G44: =E44/C44 -> #DIV/0!
A45: Узоы муддатли ижара (лизинг) бўйича фоизлар шаклидаги харажатлар Расходы в виде процентов по долгосрочной аренде (лизингу) (Строка в редакции Приказа МФ, зарегистрированного МЮ 12.11.2003 г. N 1209-1) | B45: 190 | G45: =E45/C45 -> #DIV/0!
A46: Валюта курси фарқидан зарарлар Убытки от валютных курсовых разниц | B46: 200 | D46: 237447 | F46: =25379+1098 -> 26477 | G46: =E46/C46 -> #DIV/0!
...

Sheet Фин_рез+Налоги
B1: Ўзбекистон Республикаси Молия вазирининг 2002 йил 27 де- кабрдаги 140-сонли буйруғига 2-сонли илова, ЎзР АВ томони- дан 2003 й. 24 январда рўйхатга олинган N 1209 Приложение N 2 к Приказу министра финансов от 27 декабря 2002 г. N 140, зарегистрированному МЮ 24 января 2003 г. N 1209
A3: МОЛИЯВИЙ НАТИЖАЛАР ТЎҒРИСИДАГИ ҲИСОБОТ - 2-сонли шакл
A4: ОТЧЕТ О ФИНАНСОВЫХ РЕЗУЛЬТАТАХ - форма N 2
A6: =Баланс!B5 -> 2026 йил 1 июль
A7: =Баланс!B6 -> на 1 июля 2026 года
A9: Корхона, ташкилот Предприятие, организация АО BIOKIMYO | F9: Кодалар Коды
A10: Тармоқ Отрасль _промышленность | E10: БҲУТ бўйича 2-шакл- Форма N 2 по ОКУД-
A11: Ташкилий-ҳуқуқий шакли Организационно-правовая форма открытого типа_ | E11: КТУТ бўйича- по ОКПО- | F11: ОО478983
A12: Мулкчилик шакли Форма собственности __акционерное____ | E12: ХХТУТ бўйича- по ОКОНХ- | F12: 18141
E13: ТҲШТ бўйича- по КОПФ- | F13: 1151
A14: Вазирлик, идора ва бошқалар Министерства, ведомства и другие | E14: МШТ бўйича- по КФС- | F14: 144
E15: ДБИБТ бўйича- по СООГУ- | F15: 8254
A16: Солиқ тўловчининг идентификацион рақами Идентификационный номер налогоплательщика 200468069 | E16: СТИР- ИНН- | F16: 200468069
E17: МҲОБТ- СОАТО- | F17: 1727424
A18: Ҳудуд Территория | E18: Жўнатилган сана- Дата высылки-
A19: Манзил Адрес Янгиюльский р-он ул.Кимегар 1 | E19: Қабул қилинган сана- Дата получения-
A20: Ўлчов бирлиги, минг сўм Единица измерения, тыс. сум. | E20: Тақдим қилиш муддати- Срок представления- | F20: =Баланс!D19 -> 01.07.2026 г
A24: Кўрсаткичлар номи Наименование показателя | B24: Сатр коди Код строки | C24: Ўтган йилнинг шу даврида За соответствующий период прошлого года | E24: Ҳисобот даврида За отчетный период
C25: Даромадлар (фойда) Доходы (прибыль) | D25: Харажатлар (зарарлар) Расходы (убытки) | E25: Даромадлар (фойда) Доходы (прибыль) | F25: Харажатлар (зарарлар) Расходы (убытки)
A26: 1 | B26: 2 | C26: 3 | D26: 4 | E26: 5 | F26: 6
A27: Маҳсулот (товар, иш ва хизмат) ларни сотишдан соф тушум Чистая выручка от реализации продукции (товаров, работ и услуг) | B27: 010 | C27: =C30+D29+D28 -> 224326091 | E27: 226439476 | G27: =E27/C27 -> 1.009421
A28: НДС | D28: 24034938 | F28: 24261372 | G28: =E28/C28 -> #DIV/0! | H28: 4.6929492e+10
A29: Акциз | D29: 96049731 | F29: 91002771 | G29: =E29/C29 -> #DIV/0! | H29: 114768170820
A30: Маҳсулот (товар, иш ва хизмат) ларни сотишдан соф тушум Чистая выручка от реализации продукции (товаров, работ и услуг) | B30: 010 | C30: =Фин_рез!C27 -> 104241422 | D30: =Фин_рез!D27 -> 0 | E30: =Фин_рез!E27 -> 111175332 | F30: =Фин_рез!F27 -> 0 | G30: =E30/C30 -> 1.0665178
A31: Сотилган маҳсулот (товар, иш ва хизмат) ларнинг таннархи Себестоимость реализованной продукции (товаров, работ и услуг) | B31: 020 | C31: =Фин_рез!C28 -> 0 | D31: =Фин_рез!D28 -> 84021482 | E31: =Фин_рез!E28 -> 0 | F31: =Фин_рез!F28 -> 94399654 | G31: =E31/C31 -> #DIV/0!
A32: Маҳсулот (товар, иш ва хизмат) ларни сотишнинг ялпи фойдаси (зарари) (сатр.010-020) Валовая прибыль (убыток) от реализации продукции (товаров, работ и услуг) (стр.010-020) | B32: 030 | C32: =Фин_рез!C29 -> 20219940 | D32: =Фин_рез!D29 -> 0 | E32: =Фин_рез!E29 -> 16775678 | F32: =Фин_рез!F29 -> 0 | G32: =E32/C32 -> 0.82966013
A33: Давр харажатлари, жами (сатр.050+060+070+080), шу жумладан: Расходы периода, всего (стр.050+060+070+080), в том числе: | B33: 040 | C33: =Фин_рез!C30 -> 0 | D33: =Фин_рез!D30 -> 7877221 | E33: =Фин_рез!E30 -> 0 | F33: =Фин_рез!F30 -> 7746568 | G33: =E33/C33 -> #DIV/0!
A34: Сотиш харажатлари Расходы по реализации | B34: 050 | C34: =Фин_рез!C31 -> 0 | D34: =Фин_рез!D31 -> 551811 | E34: =Фин_рез!E31 -> 0 | F34: =Фин_рез!F31 -> 541628 | G34: =E34/C34 -> #DIV/0!
A35: Маъмурий харажатлар Административные расходы | B35: 060 | C35: =Фин_рез!C32 -> 0 | D35: =Фин_рез!D32 -> 2040599 | E35: =Фин_рез!E32 -> 0 | F35: =Фин_рез!F32 -> 2193688 | G35: =E35/C35 -> #DIV/0!
A36: Бошқа операцион харажатлар Прочие операционные расходы | B36: 070 | C36: =Фин_рез!C33 -> 0 | D36: =Фин_рез!D33 -> 5284811 | E36: =Фин_рез!E33 -> 0 | F36: =Фин_рез!F33 -> 5011252 | G36: =E36/C36 -> #DIV/0!
A37: Келгусида солиққа тортиладиган базадан чиқариладиган ҳисобот даври харажатлари Расходы отчетного периода, исключаемые из налогооблагаемой базы в будущем | B37: 080 | C37: =Фин_рез!C34 -> 0 | D37: =Фин_рез!D34 -> 0 | E37: =Фин_рез!E34 -> 0 | F37: =Фин_рез!F34 -> 0 | G37: =E37/C37 -> #DIV/0!
A38: Асосий фаолиятнинг бошқа даромадлари Прочие доходы от основной деятельности | B38: 090 | C38: =Фин_рез!C35 -> 1035374 | D38: =Фин_рез!D35 -> 0 | E38: =Фин_рез!E35 -> 832167 | F38: =Фин_рез!F35 -> 0 | G38: =E38/C38 -> 0.80373565
A39: Асосий фаолиятнинг фойдаси (зарари) (сатр. 030-040+090) Прибыль (убыток) от основной деятельности (стр.030-040+090) | B39: 100 | C39: =Фин_рез!C36 -> 13378093 | D39: =Фин_рез!D36 -> 0 | E39: =Фин_рез!E36 -> 9861277 | F39: =Фин_рез!F36 -> 0 | G39: =E39/C39 -> 0.73712128
A40: Молиявий фаолиятнинг даромадлари, жами (сатр.120+130+140+150+160), шу жумладан: Доходы от финансовой деятельности, всего (стр.120+130+140+150+160), в том числе: | B40: 110 | C40: =Фин_рез!C37 -> 68138 | D40: =Фин_рез!D37 -> 0 | E40: =Фин_рез!E37 -> 181291 | F40: =Фин_рез!F37 -> 0 | G40: =E40/C40 -> 2.6606446
A41: Дивидендлар шаклидаги даромадлар Доходы в виде дивидендов | B41: 120 | C41: =Фин_рез!C38 -> 0 | D41: =Фин_рез!D38 -> 0 | E41: =Фин_рез!E38 -> 0 | F41: =Фин_рез!F38 -> 0 | G41: =E41/C41 -> #DIV/0!
A42: Фоизлар шаклидаги даромадлар Доходы в виде процентов | B42: 130 | C42: =Фин_рез!C39 -> 0 | D42: =Фин_рез!D39 -> 0 | E42: =Фин_рез!E39 -> 176102 | F42: =Фин_рез!F39 -> 0 | G42: =E42/C42 -> #DIV/0!
A43: Узоқ муддатли ижара (лизинг) дан даромадлар Доходы от долгосрочной аренды (лизинг) (Строка в редакции Приказа МФ, зарегистрированного МЮ 12.11.2003 г. N 1209-1) | B43: 140 | C43: =Фин_рез!C40 -> 0 | D43: =Фин_рез!D40 -> 0 | E43: =Фин_рез!E40 -> 0 | F43: =Фин_рез!F40 -> 0 | G43: =E43/C43 -> #DIV/0!
A44: Валюта курси фарқидан даромадлар Доходы от валютных курсовых разниц | B44: 150 | C44: =Фин_рез!C41 -> 68138 | D44: =Фин_рез!D41 -> 0 | E44: =Фин_рез!E41 -> 5189 | F44: =Фин_рез!F41 -> 0 | G44: =E44/C44 -> 0.076154275
A45: Молиявий фаолиятнинг бошқа даромадлари Прочие доходы от финансовой деятельности | B45: 160 | C45: =Фин_рез!C42 -> 0 | D45: =Фин_рез!D42 -> 0 | E45: =Фин_рез!E42 -> 0 | F45: =Фин_рез!F42 -> 0 | G45: =E45/C45 -> #DIV/0!
A46: Молиявий фаолият бўйича харажатлар (сатр.180+190+200+210), шу жумладан: Расходы по финансовой деятельности (стр.180+190+200+210), в том числе: | B46: 170 | C46: =Фин_рез!C43 -> 0 | D46: =Фин_рез!D43 -> 2243053 | E46: =Фин_рез!E43 -> 0 | F46: =Фин_рез!F43 -> 671846 | G46: =E46/C46 -> #DIV/0!
...

Sheet 4_Ф
B1: Ўзбекистон Республикаси Молия вазирининг 2002 йил 27 декабрдаги 140-сонли буйруғига 4-сонли илова, ЎзР АВ томонидан 2003 й. 24 январда рўйхатга олинган N 1209 Приложение N 4 к Приказу министра финансов от 27 декабря 2002 г. N 140, зарегистриро-ванному МЮ 24 января 2003 г. N 1209
A2: ПУЛ ОҚИМЛАРИ ТЎҒРИСИДА ҲИСОБОТ - 4-сонли шакл
A3: ОТЧЕТ О ДЕНЕЖНЫХ ПОТОКАХ - форма N 4
A4: =Баланс!B5 -> 2026 йил 1 июль
A5: =Баланс!B6 -> на 1 июля 2026 года
D7: Кодалар Коды
A8: Корхона, ташкилот Предприятие, организация _ АО BIOKIMYO | B8: БҲУТ бўйича 4-шакл Форма N 4 по ОКУД | D8: 0710004
A9: Тармоқ Отрасль ___промышленность | B9: КТУТ бўйича- по ОКПО- | D9: 478983
A10: Ташкилий-ҳуқуқий шакли Организационно-правовая форма ________________ | B10: ХХТУТ бўйича- по ОКОНХ- | D10: 18141
A11: Мулкчилик шакли Форма собственности __Акционерное | B11: ТҲШТ бўйича- по КОПФ- | D11: 1151
A12: Вазирлик, идора ва бошқалар Министерства, ведомства и другие _____________________ | B12: МШТ бўйича- по КФС- | D12: 144
A13: Солиқ тўловчининг идентификацион рақами Идентификационный номер налогоплательщика 200468069 | B13: ДБИБТ бўйича- по СООГУ- | D13: 8254
A14: Ҳудуд Территория | B14: СТИР- ИНН- | D14: 200468069
A15: Манзил Адрес __г.Янгиюль ул.Кимегар 1 | B15: МҲОБТ- СОАТО-
A16: Ўлчов бирлиги, минг сўм Единица измерения, тыс. сум. | B16: Жўнатилган сана- Дата высылки-
B17: Қабул қилинган сана- Дата получения-
B18: Тақдим қилиш муддати- Срок представления- | D18: =Фин_рез!F20 -> 01.07.2026 г
A21: Кўрсаткичлар номи Наименование показателей | B21: Сатр коди Код стр | C21: Кирим Приход | D21: Чиқим Расход
C22: 1 | D22: 2
A23: Операцион фаолият Операционная деятельность
A24: Маҳсулот (товар иш ва хизмат) ларни сотишдан келиб тушган пул маблағлари Денежные поступления от реализации продукции (товаров, работ и услуг) | B24: 010 | C24: 503688287 | D24: 0
A25: Материал товар иш ва хизматлар учун мол етказиб берувчиларга тўланган пул маблағлари Денежные выплаты поставщикам за материалы, товары работы и услуги | B25: 020 | D25: 217982445
A26: Ходимларга ва улар номидан тўланган пул маблағлари Денежные платежи персоналу и от их имени | B26: 030 | C26: 0 | D26: 24294441 | E26: =C24+C27-D25-D26-D27 -> 300383876
A27: Операцион фаолиятнинг бошқа пул тушумлари ва тўловлари Другие денежные поступления и выплаты от операционной деятельности | B27: 040 | C27: =40363022+39695 -> 40402717 | D27: =1430242 -> 1430242 | F27: =F51 -> 8534799
A28: Жами. операцион фаолиятнинг соф пул кирими/чиқими (сатр 010-020-030+/-040) Итого: чистый денежный приток/ отток от операционной деятельности (стр 010-020-030+/-040) | B28: 050 | C28: =C24+C25+C26+C27-D24-D25-D26-D27 -> 300383876 | D28: 0 | F28: 4.6906481e+08
A29: Инвестиция фаолияти Инвестиционная деятельность | F29: 3.8751173e+09
A30: Асосий воситаларни сотиб олиш ва сотиш Приобретение и продажа основных средств | B30: 060 | C30: 5580728 | D30: 10995570 | F30: 5.4028573e+08
A31: Номоддий активларни сотиб олиш ва сотиш Приобретение и продажа нематериальных активов | B31: 070 | C31: 0 | D31: 0
A32: Узоқ ва қиска муддатли инвестицияларни сотиб олиш ва сотиш Приобретение и продажа долгосрочных и краткосрочных инвестиций | B32: 080 | D32: 0
A33: Инвестицион фаолиятнинг бошқа пул тушумлари ва тўловлари Другие денежные поступления и выплаты от инвестиционной деятельности | B33: 090 | D33: 0
A34: Жами: инвестицион фаолиятнинг соф пул кирими/чиқими (сатр 060+/-070+/-080+/-090) Итого: чистый денежный приток/отток от инвестиционной деятельности (стр. 060+/-070+/-080+/-090) | B34: 100 | D34: =D30-C30 -> 5414842 | F34: =C28+C34 -> 300383876
A35: Молиявий фаолият Финансовая деятельность
A36: Олинган ва тўланган фоизлар Полученные и выплаченные проценты | B36: 110 | C36: 13647 | D36: 3553285
A37: Олинган ва тўланган дивидендлар Полученные и выплаченные дивиденды | B37: 120 | D37: 5574732
A38: Акциялар чиқаришдан ёки хусусий капитал билан боғлиқ бўлган бошқа инстументлардан келган пул тушумлари Денежные поступления от выпуска акций или других инструментов связанных с собственным капиталом | B38: 130 | C38: 0 | D38: 0
A39: Хусусий акциялар сотиб олингандаги пул тўловлари Денежные выплаты при выкупе собственных акций | B39: 140 | C39: 0 | D39: 0
A40: Узоқ ва қисқа муддатли кредит ва қарзлар бўйича пул тушумлари ва тўловлари Денежные поступления и выплаты по долгосрочным и краткосрочным кредитам и займам | B40: 150 | D40: 15479743
A41: Узоқ муддатли ижара (лизинг) бўйича пул тушумлари ва тўловлари Денежные поступления и платежи по долгосрочной аренде (лизингу) | B41: 160 | D41: 0 | F41: =D47-262469228 -> -629106 | I41: 2.58701e+11 | J41: 3.0676841e+09 | K41: 71438097
A42: Молиявий фаолиятнинг бошқа пул тушумлари ва тўловлари Другие денежные поступления и выплаты от финансовой деятельности | B42: 170 | C42: 0 | D42: 0 | F42: 2.6246923e+11 | G42: 18609842250 | I42: =I41+J41+K41 -> 2.6184012e+11
A43: Жами: молиявий фаолиятнинг соф пул кирими/чиєими (сатр 110+/-120+130-140+/-150+/-160-1-/-170) Итого: Чистый денежный приток/отток от финансовой деятельности (стр.110+/-120+130-140+/-150+/-16О+/-170) | B43: 180 | C43: 0 | D43: =D36-C36+D40+D37-C37-C40 -> 24594113 | F43: 2.4385939e+11 | I43: =F42-I42 -> 6.2910575e+08 | J43: дивиденды
...

Sheet Ф_5
G1: Ўзбекистон Республикаси Молия вазирининг 2002 йил 27 декабрдаги 140-сонли буйруғига 5-сонли илова, ЎзР АВ томонидан 2003 й. 24 январда рўйхатга олинган N 1209 Приложение N 5 к Приказу министра финансов от 27 декабря 2002 г. N 140, зарегистрированному МЮ 24 января 2003 г. N 1209
A2: ХУСУСИЙ КАПИТАЛ ТЎҒРИСИДАГИ ҲИСОБОТ - 5-сонли шакл ОТЧЕТ О СОБСТВЕННОМ КАПИТАЛЕ - форма N 5
A3: =Баланс!B5 -> 2026 йил 1 июль
A4: =Баланс!B6 -> на 1 июля 2026 года
I5: Кодалар Коды
A6: Корхона, ташкилот Предприятие, организация АО BIOKIMYO | G6: БҲУТ бўйича 5-шакл- Форма N 5 по ОКУД- | I6: 0710005
A7: Тармоқ Отрасль _____________________________________________________________________ | G7: КТУТ бўйича- по ОКПО- | I7: 478983
A8: Ташкилий-ҳуқуқий шакли Организационно-правовая форма ___Акционерное | G8: ХХТУТ бўйича- по ОКОНХ- | I8: 18141
A9: Мулкчилик шакли Форма собственности __________________________________________________________ | G9: ТҲШТ бўйича- по КОПФ- | I9: 1151
A10: Вазирлик, идора ва бошқалар Министерства, ведомства и другие ________________________ | G10: МШТ бўйича- по КФС- | I10: 144
A11: Солиқ тўловчининг идентификацион рақами Идентификационный номер налогоплательщика__200468069 | G11: ДБИБТ бўйича- по СООГУ- | I11: 8254
A12: Ҳудуд Территория | G12: СТИР- ИНН- | I12: 200468069
A13: Манзил Адрес ___ г.Янгиюль ул.Кимегар 1____ | G13: МҲОБТ- СОАТО- | I13: 1727426
A14: Ўлчов бирлиги, минг сўм Единица измерения, тыс. сум. | G14: Жўнатилган сана- Дата высылки-
G15: Қабул қилинган сана- Дата получения-
G16: Тақдим қилиш - Срок представления- | I16: =Баланс!D19 -> 01.07.2026 г
A17: Кўрсаткичлар номи Наименование показателя | B17: Сатр коди Код стр. | C17: Устав капитали Уставный капитал | D17: Қўшилган капитал Добавленный капитал | E17: Резерв капитали Резервный капитал | F17: Тақсимланмаган фойда (қоплан-маганзарар) Нераспределен-ная прибыль (не-покрытые убыт-ки) | G17: Сотиб олинган хусусий акциялар Выкупленные собственные акции | H17: Мақсадли тушумлар ва бошқалар Целевые поступления и прочие | I17: Жами Итого
A18: 1 | B18: 2 | C18: 3 | D18: 4 | E18: 5 | F18: 6 | G18: 7 | H18: 8 | I18: 9
A19: Йил бошидаги қолдиқ Остаток на начало года | B19: 010 | C19: =Баланс!C92 -> 19139488 | E19: =Баланс!C94 -> 9306053 | F19: =Баланс!C96 -> 80633982 | H19: =Баланс!C97 -> 9501528 | I19: =C19+E19+F19+H19 -> 118581051
A20: Қимматли қоғозлар эмиссияси Эмиссия ценных бумаг | B20: 020 | C20: 0 | E20: x | F20: x | G20: x | H20: x
A21: Узоқ муддатли активларни қайта баҳолаш Переоценка долгосрочных активов | B21: 030 | C21: x | D21: x | E21: -225419 | F21: x | G21: x | H21: x | I21: =E21 -> -225419
A22: Устав капиталини шаклланти-ришда пайдо бўлган валюта курси фарқлари Валютная курсовая разница при формировании уставного капитала | B22: 040 | C22: x | E22: x | F22: x | G22: x | H22: x
A23: Резерв капиталига ажратмалар Отчисления в резервный капитал | B23: 050 | C23: x | D23: x | E23: 118823 | G23: x | H23: x | I23: =E23+F23 -> 118823
A24: Жорий йилнинг тақсимланмаган фойдаси (зарари) Нераспределенная прибыль (убыток) текущего года | B24: 060 | C24: x | D24: x | E24: x | F24: =Фин_рез!E53 -> 7901612 | G24: x | H24: x | I24: =F24 -> 7901612
A25: Текинга олинган мол-мулк Безвозмездно полученное имущество | B25: 070 | C25: x | D25: x | E25: 0 | F25: x | G25: x | H25: x
A26: Мақсадли фойдаланиш учун олинган маблағлар Полученные средства по целевому назначению | B26: 080 | C26: x | D26: x | E26: x | F26: x | G26: x | I26: =H26 -> 0
A27: Тўланган дивидендлар Дивиденды уплаченные | B27: 090 | C27: x | D27: x | E27: x | F27: =-5713280 -> -5713280 | G27: x | H27: x | I27: =F27 -> -5713280
A28: Хусусий капитал шакллани-шининг бошқа манбалари Прочие источники формирования собственного капитала | B28: 100 | I28: =C28+E28+F28+H28 -> 0 | O28: =F28+F27+F23 -> -5713280
A29: Йил охиридаги қолдиқ Остаток на конец года | B29: 110 | C29: =C19+C20+C28 -> 19139488 | E29: =E19+E30 -> 9199457 | F29: =F19+F30 -> 82803594 | H29: =H19+H26+H28 -> 9501528 | I29: =I19+I21+I23+I24+I27+I28+I26-18720 -> 120644067 | J29: =I29-Баланс!D99 -> -5225215
A30: Хусусий капиталининг кўпайиши (+) ёки камайиши (-) Увеличение (+) или уменьшение (-) собственного капитала | B30: 120 | C30: =C28 -> 0 | E30: =E21+E23+E28 -> -106596 | F30: =F24+F27+F28+F23-18720 -> 2169612 | H30: =H26+H28 -> 0 | I30: =C30+E30+F30+H30 -> 2063016 | J30: =I29-I19 -> 2063016
A31: МАЪЛУМОТ УЧУН: СПРАВОЧНО:
A32: Чиқарилган акциялар сони, дона Количество выпущенных акций, шт. | B32: 130 | C32: x | D32: x | E32: x | F32: x | G32: x | H32: x
A33: шу жумладан: в том числе:
A34: имтиёзли привилегированные | B34: 131 | C34: x | D34: x | E34: x | F34: x | G34: x | H34: x | I34: 0
A35: оддий простые | B35: 132 | C35: x | D35: x | E35: x | F35: x | G35: x | H35: x
A36: Акциянинг номинал қиймати Номинальная стоимость акции | B36: 140 | C36: x | D36: x | E36: x | F36: x | G36: x | H36: x | I36: 3
A37: Муомаладаги акциялар сони, дона Количество акций в обращении, шт. | B37: 150 | C37: x | D37: x | E37: x | F37: x | G37: x | H37: x | I37: 5713280
A38: шу жумладан: в том числе:
A39: имтиёзли привилегированные | B39: 151 | C39: x | D39: x | E39: x | F39: x | G39: x | H39: x | I39: 0
A40: оддий простые | B40: 152 | C40: x | D40: x | E40: x | F40: x | G40: x | H40: x | I40: =I37 -> 5713280
...
